BEGIN:VCALENDAR
VERSION:2.0
PRODID:
BEGIN:VEVENT
UID:063812jl
DTSTAMP:20260420T115108Z
DTSTART:20261119T150000Z
DTEND:20261119T223000Z
LOCATION: Zoom
SUMMARY: Webcast: Federal Tax Update - Individuals (Form 1040)
DESCRIPTION: With the increasing complexity and ever-changing nature of tax laws and issues\, today’s accountant needs a one-day update course focusing on individual income tax issues with an emphasis of newly enacted income tax legislation. This comprehensive class will not only review the current Federal individual income tax laws but will also update tax return preparers of new tax forms\, changes to existing tax forms\, as well as tax planning opportunities and pitfalls. This is a “must-attend” course for all tax practitioners who want to be up to speed quickly and have a successful Federal individual income tax filing season.
CLASS:PUBLIC
END:VEVENT
END:VCALENDAR
