BEGIN:VCALENDAR
VERSION:2.0
PRODID:
BEGIN:VEVENT
UID:063828bm
DTSTAMP:20260421T232526Z
DTSTART:20260721T150000Z
DTEND:20260721T183000Z
LOCATION: Zoom
SUMMARY: Webcast: Arizona Accounting Ethics w/Emphasis on Tax Practice Issues
DESCRIPTION: CPAs in tax practice face unique issues when applying the Arizona state accountancy law and regulations and the AICPA Code of Professional Conduct. This program is meant to take the tax practitioner through governing state law\, state board regulations and the AICPA Code of Conduct\, pointing out those areas that create issues in tax practice. This program helps you meet the "best practices" standard\, other ethical standards and regulatory requirements. It will also include discussion of privileged communication and various penalties that apply to tax practitioners. Don't miss this informative update from a nationally recognized Arizona expert\, Ed Zollars.
CLASS:PUBLIC
END:VEVENT
END:VCALENDAR
