BEGIN:VCALENDAR
VERSION:2.0
PRODID:
BEGIN:VEVENT
UID:063845jl
DTSTAMP:20260420T115701Z
DTSTART:20260918T205000Z
DTEND:20260918T215000Z
SUMMARY: Professional Issues Update & Arizona Ethics - Prescott
DESCRIPTION: Stay Informed. Stay Engaged.Join us for the ASCPA’s annual Professional Issues Update —an in-person-only event where you’ll hear directly from ASCPA President &amp\; CEO Oliver Yandle and a guest co-presenter from ASCPA leadership\, which may include an ASCPA Board member or a member of our advocacy team.This year's update is paired with the live course\, Arizona Accounting Ethics w/Emphasis on Tax Practice Issues\, presented by Edward K. Zollars\, CPA. You're welcome to attend the one-hour session on its own or make an afternoon of it by registering for both sessions and earning up to 5 CPE.The one-hour Professional Issues Update session (free to members &amp\; nonmembers) will include:• The ASCPA’s current advocacy work and policy priorities• Updates from the Arizona State Board of Accountancy• A look at the evolving landscape of the accounting profession• Highlights from the ASCPA initiatives\, including student engagement and workforce development• A chance to ask questions and share your perspective in a lively\, interactive formatOptions:• Update only 1:50 - 2:50 p.m.  Free to attend\, includes afternoon snack and beverages\, earn one hour of free CPE.• Half-day (Ethics + Professional Issues Update) 12:00 - 4:40 p.m. Includes both sessions\, lunch\, and additional fee for the Ethics course\, earn up to 5 hours of CPE. Lunch to be served at 11:30 a.m. You must select the ethics option at checkout in order to register for the half-day.Whether you’re joining for the insights\, the Ethics credit\, or both\, this is a great opportunity to connect with your profession and your peers\n 
CLASS:PUBLIC
END:VEVENT
END:VCALENDAR
