BEGIN:VCALENDAR
VERSION:2.0
PRODID:
BEGIN:VEVENT
UID:063849bm
DTSTAMP:20260420T134626Z
DTSTART:20260818T193000Z
DTEND:20260818T230000Z
LOCATION: ASCPA Conference Room (Phoenix\, 85008)
SUMMARY: Arizona Income Taxation: Update and Overview
DESCRIPTION: The Arizona Income Tax Title in the Arizona Revised Statutes creates its own set of unique issues\, borrowing from the Internal Revenue Code many times\, but also introducing its own unique issues. This program will look at the structure of the Arizona income tax\, with an emphasis on recent developments and changes in the law.
CLASS:PUBLIC
END:VEVENT
END:VCALENDAR
